BEGIN:VCALENDAR
VERSION:2.0
PRODID:-//Kathshoppin Couture - ECPv6.14.2//NONSGML v1.0//EN
CALSCALE:GREGORIAN
METHOD:PUBLISH
X-WR-CALNAME:Kathshoppin Couture
X-ORIGINAL-URL:https://www.kathshoppin.com
X-WR-CALDESC:Évènements pour Kathshoppin Couture
REFRESH-INTERVAL;VALUE=DURATION:PT1H
X-Robots-Tag:noindex
X-PUBLISHED-TTL:PT1H
BEGIN:VTIMEZONE
TZID:UTC
BEGIN:STANDARD
TZOFFSETFROM:+0000
TZOFFSETTO:+0000
TZNAME:UTC
DTSTART:20250101T000000
END:STANDARD
END:VTIMEZONE
BEGIN:VEVENT
DTSTART;VALUE=DATE:20251011
DTEND;VALUE=DATE:20251013
DTSTAMP:20260423T105422
CREATED:20250808T223313Z
LAST-MODIFIED:20250808T223313Z
UID:311-1760140800-1760313599@www.kathshoppin.com
SUMMARY:Salon du mariage 2025 à Vernon
DESCRIPTION:
URL:https://www.kathshoppin.com/event/salon-du-mariage-2025-a-vernon/
LOCATION:Château de Bizy\, Avenue Maréchal de Lattre de Tassigny\, Vernon\, 27200\, France
END:VEVENT
END:VCALENDAR